BEGIN:VCALENDAR
VERSION:2.0
PRODID:-//ExpressionEngine Easy iCalendar plugin//NONSGML v2.0.1//EN
X-WR-TIMEZONE:America/New_York
X-WR-CALNAME:Upcoming Auctions
BEGIN:VEVENT
UID:156848
DTSTAMP:20260212T100000
DTSTART:20260212T100000
DTEND:20260310T100000
SUMMARY:March 10th Heavy Equipment Tools & Appliances
LOCATION:11030 Blasius Rd\, Jacksonville\, FL 32226\, US
DESCRIPTION:Monthly consignment auction to include Skid Steers\, Mini Ex
 cavators\, Power Tools\, Generators\, Shipping Containers\, and
  much more. 
URL:https://www.turboauctions.com/auctions/detail/bw156848
SEQUENCE:1
END:VEVENT
END:VCALENDAR