BEGIN:VCALENDAR
VERSION:2.0
PRODID:-//ExpressionEngine Easy iCalendar plugin//NONSGML v2.0.1//EN
X-WR-TIMEZONE:America/New_York
X-WR-CALNAME:Upcoming Auctions
BEGIN:VEVENT
UID:154949
DTSTAMP:20260301T120000
DTSTART:20260301T120000
DTEND:20260331T120000
SUMMARY:Stunning Home in Prime Mandarin Location!
LOCATION:12568 Westberry Hideaway Ln\, Jacksonville\, FL 32223\, US
DESCRIPTION:2192 sqft Spacious 4BR/2BA home located in Mandarin. Large o
 pen floor plan. Fireplace in family room. Move in ready. Do
 n't miss this lovely home!
URL:https://www.turboauctions.com/auctions/detail/bw154949
SEQUENCE:1
END:VEVENT
END:VCALENDAR