BEGIN:VCALENDAR
VERSION:2.0
PRODID:-//ExpressionEngine Easy iCalendar plugin//NONSGML v2.0.0//EN
X-WR-TIMEZONE:America/New_York
X-WR-CALNAME:Upcoming Auctions
BEGIN:VEVENT
UID:154932
DTSTAMP:20260112T120000
DTSTART:20260112T120000
DTEND:20260207T140000
SUMMARY:Authentic Super Bowl & Championship Rings
LOCATION:11030 Blasius Road\, Jacksonville\, FL 32226\, US
DESCRIPTION:Turbo Auctions  11030 Blasius Road\, Jacksonville\, FL 32226 
 Genuine one of a kind Super Bowl & Championship Rings of for
 mer Linebacker\, Bill Romanowski. 
URL:https://www.turboauctions.com/auctions/detail/bw154932
SEQUENCE:1
END:VEVENT
END:VCALENDAR